BEGIN:VCALENDAR
VERSION:2.0
PRODID:-//Wirtschaftsclub Literaturhaus - ECPv6.15.13.1//NONSGML v1.0//EN
CALSCALE:GREGORIAN
METHOD:PUBLISH
X-ORIGINAL-URL:https://www.wirtschaftsclub-literaturhaus.de
X-WR-CALDESC:Veranstaltungen für Wirtschaftsclub Literaturhaus
REFRESH-INTERVAL;VALUE=DURATION:PT1H
X-Robots-Tag:noindex
X-PUBLISHED-TTL:PT1H
BEGIN:VTIMEZONE
TZID:Europe/Berlin
BEGIN:DAYLIGHT
TZOFFSETFROM:+0100
TZOFFSETTO:+0200
TZNAME:CEST
DTSTART:20230326T010000
END:DAYLIGHT
BEGIN:STANDARD
TZOFFSETFROM:+0200
TZOFFSETTO:+0100
TZNAME:CET
DTSTART:20231029T010000
END:STANDARD
BEGIN:DAYLIGHT
TZOFFSETFROM:+0100
TZOFFSETTO:+0200
TZNAME:CEST
DTSTART:20240331T010000
END:DAYLIGHT
BEGIN:STANDARD
TZOFFSETFROM:+0200
TZOFFSETTO:+0100
TZNAME:CET
DTSTART:20241027T010000
END:STANDARD
BEGIN:DAYLIGHT
TZOFFSETFROM:+0100
TZOFFSETTO:+0200
TZNAME:CEST
DTSTART:20250330T010000
END:DAYLIGHT
BEGIN:STANDARD
TZOFFSETFROM:+0200
TZOFFSETTO:+0100
TZNAME:CET
DTSTART:20251026T010000
END:STANDARD
BEGIN:DAYLIGHT
TZOFFSETFROM:+0100
TZOFFSETTO:+0200
TZNAME:CEST
DTSTART:20260329T010000
END:DAYLIGHT
BEGIN:STANDARD
TZOFFSETFROM:+0200
TZOFFSETTO:+0100
TZNAME:CET
DTSTART:20261025T010000
END:STANDARD
BEGIN:DAYLIGHT
TZOFFSETFROM:+0100
TZOFFSETTO:+0200
TZNAME:CEST
DTSTART:20270328T010000
END:DAYLIGHT
BEGIN:STANDARD
TZOFFSETFROM:+0200
TZOFFSETTO:+0100
TZNAME:CET
DTSTART:20271031T010000
END:STANDARD
END:VTIMEZONE
BEGIN:VEVENT
DTSTART;TZID=Europe/Berlin:20260416T120000
DTEND;TZID=Europe/Berlin:20260416T120000
DTSTAMP:20260420T052751
CREATED:20250807T155339Z
LAST-MODIFIED:20250807T161330Z
UID:1269-1776340800-1776340800@www.wirtschaftsclub-literaturhaus.de
SUMMARY:[Business Lunch] Aufbruch in internationalen Anwaltssozietäten: Welche Werte und welches Geschäftsmodell sind zukunftsfähig?
DESCRIPTION:Prof. Dr. Stephan Eilers\, Freshfields PartG mbB \nAnmeldung über info@wirtschaftsclub-literaturhaus.de
URL:https://www.wirtschaftsclub-literaturhaus.de/event/aufbruch-in-internationalen-anwaltssozietaeten-welche-werte-und-welches-geschaeftsmodell-sind-zukunftsfaehig/
END:VEVENT
BEGIN:VEVENT
DTSTART;TZID=Europe/Berlin:20260323T193000
DTEND;TZID=Europe/Berlin:20260323T193000
DTSTAMP:20260420T052751
CREATED:20260205T091448Z
LAST-MODIFIED:20260205T092049Z
UID:1308-1774294200-1774294200@www.wirtschaftsclub-literaturhaus.de
SUMMARY:Ungarn\, Viktor Orbán und die unterwanderte Demokratie
DESCRIPTION:Gespräch: Petra Thorbrietz\, Philipp Haußmann\nModeration: Felix Heidenreich\nKooperationsveranstaltung mit dem Literaturhaus\n\nKarten können über folgenden Link erworben werden:\n\n\nUngarn\, Viktor Orbán und die unterwanderte Demokratie / Petra Thorbrietz\, Philipp Haußmann | Literaturhaus Stuttgart
URL:https://www.wirtschaftsclub-literaturhaus.de/event/ungarn-viktor-orban-und-die-unterwanderte-demokratie/
END:VEVENT
BEGIN:VEVENT
DTSTART;TZID=Europe/Berlin:20260312T120000
DTEND;TZID=Europe/Berlin:20260312T120000
DTSTAMP:20260420T052751
CREATED:20250807T155244Z
LAST-MODIFIED:20250807T161243Z
UID:1267-1773316800-1773316800@www.wirtschaftsclub-literaturhaus.de
SUMMARY:[Business Lunch] Die Zukunft des Arbeitsmarktes mit der Gen Z – Aufbruch oder Abbruch?
DESCRIPTION:Elles Kärcher\, Coaching und Personalberatung\, Stuttgart \nAnmeldung über info@wirtschaftsclub-literaturhaus.de
URL:https://www.wirtschaftsclub-literaturhaus.de/event/die-zukunft-des-arbeitsmarktes-mit-der-gen-z-aufbruch-oder-abbruch/
END:VEVENT
BEGIN:VEVENT
DTSTART;TZID=Europe/Berlin:20260212T120000
DTEND;TZID=Europe/Berlin:20260212T120000
DTSTAMP:20260420T052751
CREATED:20250807T155109Z
LAST-MODIFIED:20250807T161210Z
UID:1265-1770897600-1770897600@www.wirtschaftsclub-literaturhaus.de
SUMMARY:[Business Lunch] Verbrennungsmotor - notwendige Ergänzung zur CO2-Reduzierung?
DESCRIPTION:Dr. Andreas Kufferath\, Robert Bosch GmbH \nAnmeldung über info@wirtschaftsclub-literaturhaus.de
URL:https://www.wirtschaftsclub-literaturhaus.de/event/verbrennungsmotor-notwendige-ergaenzung-zur-co2-reduzierung/
END:VEVENT
BEGIN:VEVENT
DTSTART;TZID=Europe/Berlin:20260115T190000
DTEND;TZID=Europe/Berlin:20260115T190000
DTSTAMP:20260420T052751
CREATED:20250807T154552Z
LAST-MODIFIED:20250807T161130Z
UID:1263-1768503600-1768503600@www.wirtschaftsclub-literaturhaus.de
SUMMARY:[Business Dinner] Innovation braucht Wagnis: wie Startups unsere Wirtschaft erneuern
DESCRIPTION:Dr. Konrad Wenzel\, Director Esri R&D Center\, Stuttgart\, und Till Stratmann\, Geschäftsführer Consotio GmbH\, Stuttgart \nAnmeldung über info@wirtschaftsclub-literaturhaus.de
URL:https://www.wirtschaftsclub-literaturhaus.de/event/innovation-braucht-wagnis-wie-startups-unsere-wirtschaft-erneuern/
END:VEVENT
BEGIN:VEVENT
DTSTART;TZID=Europe/Berlin:20251218T120000
DTEND;TZID=Europe/Berlin:20251218T120000
DTSTAMP:20260420T052751
CREATED:20250807T154433Z
LAST-MODIFIED:20250807T161059Z
UID:1261-1766059200-1766059200@www.wirtschaftsclub-literaturhaus.de
SUMMARY:[Business Lunch] Kirche der Zukunft: Zwischen Traditionsbindung und Transformationsnotwendigkeit
DESCRIPTION:Karin Schieszl-Rathgeb\, Ordinariatsrätin\, Bischöfliches Ordinariat der Diözese Rottenburg-Stuttgart \nAnmeldung über info@wirtschaftsclub-literaturhaus.de
URL:https://www.wirtschaftsclub-literaturhaus.de/event/kirche-der-zukunft-zwischen-traditionsbindung-und-transformationsnotwendigkeit/
END:VEVENT
BEGIN:VEVENT
DTSTART;TZID=Europe/Berlin:20251127T120000
DTEND;TZID=Europe/Berlin:20251127T120000
DTSTAMP:20260420T052751
CREATED:20250807T154321Z
LAST-MODIFIED:20250807T161010Z
UID:1259-1764244800-1764244800@www.wirtschaftsclub-literaturhaus.de
SUMMARY:[Business Lunch] Wege aus der Krise: Wie wird unsere Wirtschaft  wieder wettbewerbsfähig?
DESCRIPTION:Dr. Nicole Hoffmeister-Kraut\, Ministerin für Wirtschaft\, Arbeit und Tourismus des Landes Baden-Württemberg \nAnmeldung über info@wirtschaftsclub-literaturhaus.de
URL:https://www.wirtschaftsclub-literaturhaus.de/event/wege-aus-der-krise-wie-wird-unsere-wirtschaft-wieder-wettbewerbsfaehig/
LOCATION:Hospitalhof
END:VEVENT
BEGIN:VEVENT
DTSTART;TZID=Europe/Berlin:20251118T193000
DTEND;TZID=Europe/Berlin:20251118T193000
DTSTAMP:20260420T052751
CREATED:20250807T160217Z
LAST-MODIFIED:20250807T160601Z
UID:1285-1763494200-1763494200@www.wirtschaftsclub-literaturhaus.de
SUMMARY:[Öffentliche Abendveranstaltung] Verleihung des Péter Horváth Literaturpreises
DESCRIPTION:
URL:https://www.wirtschaftsclub-literaturhaus.de/event/verleihung-des-peter-horvath-literaturpreises-3/
END:VEVENT
BEGIN:VEVENT
DTSTART;TZID=Europe/Berlin:20251113T190000
DTEND;TZID=Europe/Berlin:20251113T190000
DTSTAMP:20260420T052751
CREATED:20250807T160142Z
LAST-MODIFIED:20250808T124137Z
UID:1283-1763060400-1763060400@www.wirtschaftsclub-literaturhaus.de
SUMMARY:[Öffentliche Abendveranstaltung] Kulturbruch oder Kontinuität? Amerikanische Sicherheitspolitik im Zeitalter Donald Trumps
DESCRIPTION:Prof. Dr. Manfred Berg\, Universität Heidelberg\, Lehrstuhl für Amerikanistik \nAnmeldung über Kulturbruch oder Kontinuität? | Hospitalhof Stuttgart
URL:https://www.wirtschaftsclub-literaturhaus.de/event/kulturbruch-oder-kontinuitaet-amerikanische-sicherheitspolitik-im-zeitalter-donald-trumps/
LOCATION:Hospitalhof
END:VEVENT
BEGIN:VEVENT
DTSTART;TZID=Europe/Berlin:20251009T190000
DTEND;TZID=Europe/Berlin:20251009T190000
DTSTAMP:20260420T052751
CREATED:20250807T160055Z
LAST-MODIFIED:20250808T124054Z
UID:1281-1760036400-1760036400@www.wirtschaftsclub-literaturhaus.de
SUMMARY:[Öffentliche Abendveranstaltung] Das Ende des Chinesischen Traums. Leben in Xi Jinpings neuem China
DESCRIPTION:Lea Sahay\, Autorin\, Journalistin und China-Korrespondentin\, und Vertreter des Verbands der Unternehmer Baden-Württemberg e. V. (UBW) \nAnmeldung über https://shop.freiheit.org/#!/Veranstaltung/61aq7
URL:https://www.wirtschaftsclub-literaturhaus.de/event/das-ende-des-chinesischen-traums-leben-in-xi-jinpings-neuem-china/
LOCATION:Hospitalhof
END:VEVENT
BEGIN:VEVENT
DTSTART;TZID=Europe/Berlin:20251009T120000
DTEND;TZID=Europe/Berlin:20251009T120000
DTSTAMP:20260420T052751
CREATED:20250807T145827Z
LAST-MODIFIED:20250807T160849Z
UID:1248-1760011200-1760011200@www.wirtschaftsclub-literaturhaus.de
SUMMARY:[Business Lunch] Das Kunstmuseum in Feierlaune: 100 Jahre  Sammlung\, 20 Jahre Kunstmuseum\, nachfolgend Besuch der Ausstellung „Doppelkäseplatte"
DESCRIPTION:Dr. Ulrike Groos\, Direktorin Kunstmuseum Stuttgart \nAnmeldung über info@wirtschaftsclub-literaturhaus.de
URL:https://www.wirtschaftsclub-literaturhaus.de/event/das-kunstmuseum-in-feierlaune-100-jahre-sammlung-20-jahre-kunstmuseum-nachfolgend-besuch-der-ausstellung-doppelkaeseplatte/
LOCATION:Kunstmuseum Stuttgart
END:VEVENT
BEGIN:VEVENT
DTSTART;TZID=Europe/Berlin:20250916T120000
DTEND;TZID=Europe/Berlin:20250916T120000
DTSTAMP:20260420T052751
CREATED:20240923T103526Z
LAST-MODIFIED:20240924T123647Z
UID:1118-1758024000-1758024000@www.wirtschaftsclub-literaturhaus.de
SUMMARY:[Business Lunch] Kant oder Hegel – was hält uns mehr zusammen?
DESCRIPTION:Thomas Gutknecht\, Philosoph\, Logos-Institut Reutlingen \nAnmeldung über info@wirtschaftsclub-literaturhaus.de
URL:https://www.wirtschaftsclub-literaturhaus.de/event/kant-oder-hegel-was-haelt-uns-mehr-zusammen/
END:VEVENT
BEGIN:VEVENT
DTSTART;TZID=Europe/Berlin:20250814T190000
DTEND;TZID=Europe/Berlin:20250814T190000
DTSTAMP:20260420T052751
CREATED:20240923T103456Z
LAST-MODIFIED:20240924T123645Z
UID:1117-1755198000-1755198000@www.wirtschaftsclub-literaturhaus.de
SUMMARY:[Business Dinner] Hölzel als Brückenbauer für heute
DESCRIPTION:Dr. Bert Schlichtenmaier\, Galerist\, Kunstwissenschaftler und Vorstand der Hölzel Stiftung \nFührung im Hölzel-Haus \nAnmeldung über info@wirtschaftsclub-literaturhaus.de
URL:https://www.wirtschaftsclub-literaturhaus.de/event/hoelzel-als-brueckenbauer-fuer-heute/
END:VEVENT
BEGIN:VEVENT
DTSTART;TZID=Europe/Berlin:20250710T120000
DTEND;TZID=Europe/Berlin:20250710T120000
DTSTAMP:20260420T052751
CREATED:20240923T100657Z
LAST-MODIFIED:20240924T123639Z
UID:1116-1752148800-1752148800@www.wirtschaftsclub-literaturhaus.de
SUMMARY:[Business Lunch] Aus den Fesseln der sozialen Medien zurück ins echte Leben - Beobachtungen eines Hochschullehrers
DESCRIPTION:Prof. Götz Gruner\, Hochschule Offenburg \nAnmeldung über info@wirtschaftsclub-literaturhaus.de
URL:https://www.wirtschaftsclub-literaturhaus.de/event/aus-den-fesseln-der-sozialen-medien-zurueck-ins-echte-leben-beobachtungen-eines-hochschullehrers/
END:VEVENT
BEGIN:VEVENT
DTSTART;TZID=Europe/Berlin:20250616T193000
DTEND;TZID=Europe/Berlin:20250616T193000
DTSTAMP:20260420T052751
CREATED:20240923T103840Z
LAST-MODIFIED:20250416T093401Z
UID:1134-1750102200-1750102200@www.wirtschaftsclub-literaturhaus.de
SUMMARY:[Öffentliche Abendveranstaltung] „Taxmenow?" Wie gerecht sind Erbschafts- und Vermögenssteuer?
DESCRIPTION:Prof. Dr. Rainer Kirchdörfer\, Vorstand der Stiftung Familienunternehmen\, und Stefanie Bremer\, taxmenow – Initiative für Steuergerechtigkeit e.V.\, \nModeration: Dr. Susanne Kaufmann \nKartenverkauf über www.literaturhaus-stuttgart.de \nDatum geändert
URL:https://www.wirtschaftsclub-literaturhaus.de/event/foerdern-steuerprivilegien-fuer-unternehmen-den-zusammenhalt-in-der-gesellschaft/
END:VEVENT
BEGIN:VEVENT
DTSTART;TZID=Europe/Berlin:20250605T120000
DTEND;TZID=Europe/Berlin:20250605T120000
DTSTAMP:20260420T052751
CREATED:20240923T100625Z
LAST-MODIFIED:20240924T123635Z
UID:1115-1749124800-1749124800@www.wirtschaftsclub-literaturhaus.de
SUMMARY:[Business Lunch] Zwischen Anspruchsdenken und sozialem Engagement. Die Gen Z im Freiwilligen Sozialen Jahr
DESCRIPTION:Olivia Longin\, Geschäftsführerin der Freiwilligendienste in der Diözese Rottenburg-Stuttgart gGmbH \nAnmeldung über info@wirtschaftsclub-literaturhaus.de
URL:https://www.wirtschaftsclub-literaturhaus.de/event/zwischen-anspruchsdenken-und-sozialem-engagement-die-gen-z-im-freiwilligen-sozialen-jahr/
END:VEVENT
BEGIN:VEVENT
DTSTART;TZID=Europe/Berlin:20250508T120000
DTEND;TZID=Europe/Berlin:20250508T120000
DTSTAMP:20260420T052751
CREATED:20240923T100533Z
LAST-MODIFIED:20240924T123633Z
UID:1113-1746705600-1746705600@www.wirtschaftsclub-literaturhaus.de
SUMMARY:[Business Lunch] Bildung als Integrationsfaktor
DESCRIPTION:Dr. Dagmar Wolf\, Bereichsleiterin Bildung der Robert Bosch Stiftung \nAnmeldung über info@wirtschaftsclub-literaturhaus.de
URL:https://www.wirtschaftsclub-literaturhaus.de/event/bildung-als-integrationsfaktor/
END:VEVENT
BEGIN:VEVENT
DTSTART;TZID=Europe/Berlin:20250410T120000
DTEND;TZID=Europe/Berlin:20250410T120000
DTSTAMP:20260420T052751
CREATED:20240923T100522Z
LAST-MODIFIED:20240924T123631Z
UID:1114-1744286400-1744286400@www.wirtschaftsclub-literaturhaus.de
SUMMARY:[Business Lunch] Identifikation und Identität im Unternehmen
DESCRIPTION:Helmut Ahr\, Sprecher des Vorstands\, Horváth AG \nAnmeldung über info@wirtschaftsclub-literaturhaus.de
URL:https://www.wirtschaftsclub-literaturhaus.de/event/identifikation-und-identitaet-im-unternehmen/
END:VEVENT
BEGIN:VEVENT
DTSTART;TZID=Europe/Berlin:20250328T193000
DTEND;TZID=Europe/Berlin:20250328T193000
DTSTAMP:20260420T052751
CREATED:20240923T103805Z
LAST-MODIFIED:20240924T123221Z
UID:1133-1743190200-1743190200@www.wirtschaftsclub-literaturhaus.de
SUMMARY:[Öffentliche Abendveranstaltung] Brennende Felder
DESCRIPTION:Reinhard Kaiser-Mühlecker\, Literat und Landwirt\,\nElisabeth Dannecker\, Violoncello\,\nMichael Hauber\, Klavier \nKonzertante Lesung und Gespräch \nKartenverkauf über www.literaturhaus-stuttgart.de
URL:https://www.wirtschaftsclub-literaturhaus.de/event/brennende-felder/
END:VEVENT
BEGIN:VEVENT
DTSTART;TZID=Europe/Berlin:20250313T120000
DTEND;TZID=Europe/Berlin:20250313T120000
DTSTAMP:20260420T052751
CREATED:20240923T100501Z
LAST-MODIFIED:20240924T123628Z
UID:1112-1741867200-1741867200@www.wirtschaftsclub-literaturhaus.de
SUMMARY:[Business Lunch] Die integrative Kraft des Sports
DESCRIPTION:Dr. Bernd Gaiser\, Aufsichtsratsvorsitzender Horváth AG \nAnmeldung über info@wirtschaftsclub-literaturhaus.de
URL:https://www.wirtschaftsclub-literaturhaus.de/event/die-integrative-kraft-des-sports/
END:VEVENT
BEGIN:VEVENT
DTSTART;TZID=Europe/Berlin:20250213T120000
DTEND;TZID=Europe/Berlin:20250213T120000
DTSTAMP:20260420T052751
CREATED:20240923T100439Z
LAST-MODIFIED:20240924T123626Z
UID:1111-1739448000-1739448000@www.wirtschaftsclub-literaturhaus.de
SUMMARY:[Business Lunch] Eine Stadt trotz vieler Milieus? – Warum die Stadt \,dritte Räume´ braucht
DESCRIPTION:Eberhard Schwarz\, Pfarrer i. R. Hospitalkirche und Citykirche Stuttgart \nAnmeldung über info@wirtschaftsclub-literaturhaus.de
URL:https://www.wirtschaftsclub-literaturhaus.de/event/eine-stadt-trotz-vieler-milieus-warum-die-stadt-dritte-raeume-braucht/
END:VEVENT
BEGIN:VEVENT
DTSTART;TZID=Europe/Berlin:20250124T193000
DTEND;TZID=Europe/Berlin:20250124T193000
DTSTAMP:20260420T052751
CREATED:20240923T103722Z
LAST-MODIFIED:20241219T122512Z
UID:1132-1737747000-1737747000@www.wirtschaftsclub-literaturhaus.de
SUMMARY:[Öffentliche Abendveranstaltung] Was hält unsere Gesellschaft zusammen? Zu Arbeitswelt und Gemeinwohl
DESCRIPTION:Dr. Stefan Wolf\, Präsident des Arbeitgeberverbandes Gesamtmetall\, und\nJohannes Schmalzl\, Vorsitzender des Vorstands der Stiftung Würth \nKartenverkauf über www.literaturhaus-stuttgart.de
URL:https://www.wirtschaftsclub-literaturhaus.de/event/was-haelt-unsere-gesellschaft-zusammen-zu-arbeitswelt-und-gemeinwohl/
END:VEVENT
BEGIN:VEVENT
DTSTART;TZID=Europe/Berlin:20250109T120000
DTEND;TZID=Europe/Berlin:20250109T120000
DTSTAMP:20260420T052751
CREATED:20240923T100419Z
LAST-MODIFIED:20240924T123623Z
UID:1110-1736424000-1736424000@www.wirtschaftsclub-literaturhaus.de
SUMMARY:[Business Lunch] Eine Bühne – viele Welten. Wie integrativ ist Hochkultur?
DESCRIPTION:Viktor Schoner\, Intendant der Staatsoper Stuttgart \nAnmeldung über info@wirtschaftsclub-literaturhaus.de
URL:https://www.wirtschaftsclub-literaturhaus.de/event/eine-buehne-viele-welten-wie-integrativ-ist-hochkultur/
END:VEVENT
BEGIN:VEVENT
DTSTART;TZID=Europe/Berlin:20241212T120000
DTEND;TZID=Europe/Berlin:20241212T120000
DTSTAMP:20260420T052751
CREATED:20240923T100357Z
LAST-MODIFIED:20240924T123620Z
UID:1109-1734004800-1734004800@www.wirtschaftsclub-literaturhaus.de
SUMMARY:[Business Lunch] Religion als \,Kitt der Gesellschaft'
DESCRIPTION:Msgr. Dr. Christian Hermes\, katholischer Stadtdekan\, Stuttgart \nAnmeldung über info@wirtschaftsclub-literaturhaus.de
URL:https://www.wirtschaftsclub-literaturhaus.de/event/religion-als-kitt-der-gesellschaft/
END:VEVENT
BEGIN:VEVENT
DTSTART;TZID=Europe/Berlin:20241114T120000
DTEND;TZID=Europe/Berlin:20241114T120000
DTSTAMP:20260420T052751
CREATED:20240923T100325Z
LAST-MODIFIED:20240924T123614Z
UID:1107-1731585600-1731585600@www.wirtschaftsclub-literaturhaus.de
SUMMARY:[Business Lunch] Deutsche Sicherheitspolitik im Krisenmodus und die gesellschaftliche Akzeptanz dafür
DESCRIPTION:Generalleutnant a.D. Kersten Lahl\, eh. Präsident der Bundes-Sicherheitsakademie \nAnmeldung über info@wirtschaftsclub-literaturhaus.de
URL:https://www.wirtschaftsclub-literaturhaus.de/event/deutsche-sicherheitspolitik-im-krisenmodus-und-die-gesellschaftliche-akzeptanz-dafuer/
END:VEVENT
BEGIN:VEVENT
DTSTART;TZID=Europe/Berlin:20241111T193000
DTEND;TZID=Europe/Berlin:20241111T193000
DTSTAMP:20260420T052751
CREATED:20240923T103653Z
LAST-MODIFIED:20240924T123208Z
UID:1120-1731353400-1731353400@www.wirtschaftsclub-literaturhaus.de
SUMMARY:[Öffentliche Abendveranstaltung] Verleihung des Péter Horváth Literaturpreises an Birgit Birnbacher
DESCRIPTION:für ihren Roman „Wovon wir leben“ \nKartenverkauf über www.literaturhaus-stuttgart.de
URL:https://www.wirtschaftsclub-literaturhaus.de/event/verleihung-des-peter-horvath-literaturpreises-2/
END:VEVENT
BEGIN:VEVENT
DTSTART;TZID=Europe/Berlin:20241015T193000
DTEND;TZID=Europe/Berlin:20241015T193000
DTSTAMP:20260420T052751
CREATED:20240923T103600Z
LAST-MODIFIED:20240924T124253Z
UID:1119-1729020600-1729020600@www.wirtschaftsclub-literaturhaus.de
SUMMARY:[Öffentliche Abendveranstaltung] Werte\, Wirtschaft und Visionen in Baden-Württemberg: Auseinanderdriften? Zuversicht!
DESCRIPTION:Manuel Hagel\, MdL und Fraktionsvorsitzender der CDU im Landtag Baden Württemberg \nKartenverkauf über www.literaturhaus-stuttgart.de
URL:https://www.wirtschaftsclub-literaturhaus.de/event/werte-wirtschaft-und-visionen-in-baden-wuerttemberg-auseinanderdriften-zuversicht/
END:VEVENT
BEGIN:VEVENT
DTSTART;TZID=Europe/Berlin:20241010T120000
DTEND;TZID=Europe/Berlin:20241010T120000
DTSTAMP:20260420T052751
CREATED:20240923T100254Z
LAST-MODIFIED:20240924T123551Z
UID:1105-1728561600-1728561600@www.wirtschaftsclub-literaturhaus.de
SUMMARY:[Business Lunch] Eine gespaltene Nation - die USA vor der Wahl
DESCRIPTION:Prof. Dr. Michael Butter\, Universität Tübingen \nAnmeldung über info@wirtschaftsclub-literaturhaus.de
URL:https://www.wirtschaftsclub-literaturhaus.de/event/eine-gespaltene-nation-die-usa-vor-der-wahl/
END:VEVENT
BEGIN:VEVENT
DTSTART;VALUE=DATE:20240926
DTEND;VALUE=DATE:20240927
DTSTAMP:20260420T052751
CREATED:20230904T144158Z
LAST-MODIFIED:20240925T124224Z
UID:1056-1727308800-1727395199@www.wirtschaftsclub-literaturhaus.de
SUMMARY:[Business Dinner] Versuche des Menschen\, das Wetter zu beeinflussen
DESCRIPTION:Besuch der Wetterstation Schnarrenberg \nExkursion \nAnmeldung über info@wirtschaftsclub-literaturhaus.de
URL:https://www.wirtschaftsclub-literaturhaus.de/event/versuche-des-menschen-das-wetter-zu-beeinflussen/
END:VEVENT
BEGIN:VEVENT
DTSTART;VALUE=DATE:20240808
DTEND;VALUE=DATE:20240809
DTSTAMP:20260420T052751
CREATED:20230904T144126Z
LAST-MODIFIED:20230904T144126Z
UID:1054-1723075200-1723161599@www.wirtschaftsclub-literaturhaus.de
SUMMARY:Bessere Weine dank Klimawandel
DESCRIPTION:Hans-Peter Wöhrwag\, Weingut Wöhrwag \nExkursion
URL:https://www.wirtschaftsclub-literaturhaus.de/event/bessere-weine-dank-klimawandel/
END:VEVENT
END:VCALENDAR