BEGIN:VCALENDAR
VERSION:2.0
PRODID:-//Wirtschaftsclub Literaturhaus - ECPv6.15.13.1//NONSGML v1.0//EN
CALSCALE:GREGORIAN
METHOD:PUBLISH
X-ORIGINAL-URL:https://www.wirtschaftsclub-literaturhaus.de
X-WR-CALDESC:Veranstaltungen für Wirtschaftsclub Literaturhaus
REFRESH-INTERVAL;VALUE=DURATION:PT1H
X-Robots-Tag:noindex
X-PUBLISHED-TTL:PT1H
BEGIN:VTIMEZONE
TZID:Europe/Berlin
BEGIN:DAYLIGHT
TZOFFSETFROM:+0100
TZOFFSETTO:+0200
TZNAME:CEST
DTSTART:20250330T010000
END:DAYLIGHT
BEGIN:STANDARD
TZOFFSETFROM:+0200
TZOFFSETTO:+0100
TZNAME:CET
DTSTART:20251026T010000
END:STANDARD
BEGIN:DAYLIGHT
TZOFFSETFROM:+0100
TZOFFSETTO:+0200
TZNAME:CEST
DTSTART:20260329T010000
END:DAYLIGHT
BEGIN:STANDARD
TZOFFSETFROM:+0200
TZOFFSETTO:+0100
TZNAME:CET
DTSTART:20261025T010000
END:STANDARD
BEGIN:DAYLIGHT
TZOFFSETFROM:+0100
TZOFFSETTO:+0200
TZNAME:CEST
DTSTART:20270328T010000
END:DAYLIGHT
BEGIN:STANDARD
TZOFFSETFROM:+0200
TZOFFSETTO:+0100
TZNAME:CET
DTSTART:20271031T010000
END:STANDARD
END:VTIMEZONE
BEGIN:VEVENT
DTSTART;TZID=Europe/Berlin:20260709T190000
DTEND;TZID=Europe/Berlin:20260709T190000
DTSTAMP:20260420T170428
CREATED:20250807T155723Z
LAST-MODIFIED:20250807T161520Z
UID:1275-1783623600-1783623600@www.wirtschaftsclub-literaturhaus.de
SUMMARY:[Business Dinner] Fachkräftemangel europäisch denken. Sind wir noch zukunftsfähig? Digitale Lösungen für ein Deutschland von morgen
DESCRIPTION:Anita Matičević\, Volt Deutschland\, Mitglied im Gemeinderat der Stadt Esslingen \nAnmeldung über info@wirtschaftsclub-literaturhaus.de
URL:https://www.wirtschaftsclub-literaturhaus.de/event/fachkraeftemangel-europaeisch-denken-sind-wir-noch-zukunftsfaehig-digitale-loesungen-fuer-ein-deutschland-von-morgen/
END:VEVENT
END:VCALENDAR